BEGIN:VCALENDAR
VERSION:2.0
PRODID:-//crsa-wa.com//NONSGML kigkonsult.se iCalcreator 2.30.10//
CALSCALE:GREGORIAN
METHOD:PUBLISH
UID:7a82d6d1-f1f9-452b-80a0-84de64ef56ca
X-WR-CALDESC:
X-WR-RELCALID:85fcac4f7d9d2c4f679b6d75f376b1e8
X-WR-TIMEZONE:America/Los_Angeles
BEGIN:VTIMEZONE
TZID:America/Los_Angeles
BEGIN:STANDARD
TZNAME:PST
DTSTART:20251102T020000
TZOFFSETFROM:-0700
TZOFFSETTO:-0800
RDATE:20261101T020000
END:STANDARD
BEGIN:DAYLIGHT
TZNAME:PDT
DTSTART:20250309T020000
TZOFFSETFROM:-0800
TZOFFSETTO:-0700
RDATE:20260308T020000
RDATE:20270314T020000
END:DAYLIGHT
END:VTIMEZONE
BEGIN:VEVENT
UID:97ed14b6-5632-4084-a24a-4a78ac265187
DTSTAMP:20260422T174435Z
DESCRIPTION:
DTSTART;TZID=America/Los_Angeles:20251118T100000
DTEND;TZID=America/Los_Angeles:20251118T150000
LOCATION:660 SW 39th Street\, Renton\, WA 98057 US
SUMMARY:Membership Meeting
END:VEVENT
END:VCALENDAR
