BEGIN:VCALENDAR
VERSION:2.0
PRODID:-//crsa-wa.com//NONSGML kigkonsult.se iCalcreator 2.30.10//
CALSCALE:GREGORIAN
METHOD:PUBLISH
UID:f308fe2f-8799-4285-8d3e-6300a98d75b6
X-WR-CALDESC:
X-WR-RELCALID:07dbb56c5aec73e64e6ad2d5b7c0eb22
X-WR-TIMEZONE:America/Los_Angeles
BEGIN:VTIMEZONE
TZID:America/Los_Angeles
BEGIN:STANDARD
TZNAME:PST
DTSTART:20231105T020000
TZOFFSETFROM:-0700
TZOFFSETTO:-0800
RDATE:20241103T020000
RDATE:20251102T020000
END:STANDARD
BEGIN:DAYLIGHT
TZNAME:PDT
DTSTART:20240310T020000
TZOFFSETFROM:-0800
TZOFFSETTO:-0700
RDATE:20250309T020000
RDATE:20260308T020000
END:DAYLIGHT
END:VTIMEZONE
BEGIN:VEVENT
UID:96cc51e0-43d7-4157-b044-d7a7228d85ba
DTSTAMP:20260423T222530Z
DESCRIPTION:
DTSTART;TZID=America/Los_Angeles:20240912T093000
DTEND;TZID=America/Los_Angeles:20240912T103000
LOCATION:call
SUMMARY:Executive Call
END:VEVENT
END:VCALENDAR
